BEGIN:VCALENDAR
VERSION:2.0
PRODID:-//wp-events-plugin.com//7.2.3.1//EN
TZID:Europe/Zurich
X-WR-TIMEZONE:Europe/Zurich
BEGIN:VEVENT
UID:381@sac-saas.ch
DTSTART;TZID=Europe/Zurich;VALUE=DATE:20250329
DTEND;TZID=Europe/Zurich;VALUE=DATE:20250331
DTSTAMP:20241118T161002Z
URL:https://sac-saas.ch/events/2-tages-skitour-gr-sankt-bernhard-anmeldung
 -ab-15-02-2025/
SUMMARY:2-Tages Skitour Gr. Sankt Bernhard / Anmeldung ab 15.02.2025
DESCRIPTION:&nbsp\;\n\n\n\n\n\n\n\nSchwierigkeit\nZS\n\n\nEckdaten\n2*1400 
 HM\n\n\nAusrüstung\nSkitourenausrüstung komplett\n\n\nTreffpunkt\nMartig
 ny\n\n\nTeilnehmerzahl\n10 inkl 2TL\n\n\n\n&nbsp\;
CATEGORIES:SAC Tour
END:VEVENT
BEGIN:VTIMEZONE
TZID:Europe/Zurich
X-LIC-LOCATION:Europe/Zurich
BEGIN:STANDARD
DTSTART:20241027T020000
TZOFFSETFROM:+0200
TZOFFSETTO:+0100
TZNAME:CET
END:STANDARD
BEGIN:DAYLIGHT
DTSTART:20250330T030000
TZOFFSETFROM:+0100
TZOFFSETTO:+0200
TZNAME:CEST
END:DAYLIGHT
END:VTIMEZONE
END:VCALENDAR